BEGIN:VCALENDAR
VERSION:2.0
PRODID:-//eventon.com NONSGML v1.0//EN
CALSCALE:GREGORIAN
METHOD:PUBLISH
BEGIN:VEVENT
UID:69e5e5b3dcd7b
DTSTAMP:20260420T083707Z
DTSTART:20260325T100000Z
DTEND:20260326T000000Z
LOCATION:Black Eagle Community Center 2332 Smelter Ave Black Eagle\,  MT 59414
SUMMARY:Great Falls - A2L Training
DESCRIPTION:See below for class information: Practical Look at A2LRefrigera
 nts-Latest in Regulations and What QuotaRestrictions Mean AIM Act Summary &
 #8211; HFC Phase Down Schedule A2L Definition and Handling Summary of Incum
 bent Refrigerants AND Replacement Refrigerants Summary of Long-Term Refrige
 rant Solutions Use of A2L Refrigerants [R-454A OR R-454C] inNEW EQUIPMENT S
 ummary of[..]\nhttps://www.thermalsupplyinc.com/events/great-falls-a2l-trai
 ning/
URL:https://www.thermalsupplyinc.com/events/great-falls-a2l-training/
END:VEVENT
END:VCALENDAR