BEGIN:VCALENDAR
VERSION:2.0
PRODID:-//eventon.com NONSGML v1.0//EN
CALSCALE:GREGORIAN
METHOD:PUBLISH
BEGIN:VEVENT
UID:69e5e55e95d32
DTSTAMP:20260420T083542Z
DTSTART:20260409T153000Z
DTEND:20260409T233000Z
LOCATION:TBA
SUMMARY:Kalispell\,  MT FIT/SD Training
DESCRIPTION:Register now for the Daikin FIT &amp; Goodman SD Install &amp; 
 Commissioning Class taking place in Kalispell\,  MT! For questions\,  pleas
 e get in touch with your local Thermal Supply Sales Rep or emailtraining@th
 ermalsupply.com This training is free to attend\,  but cancellations or res
 cheduling must be made at least 48 hours[..]\nhttps://www.thermalsupplyinc.
 com/events/kalispell-mt-fit-sd-training/
URL:https://www.thermalsupplyinc.com/events/kalispell-mt-fit-sd-training/
END:VEVENT
END:VCALENDAR