BEGIN:VCALENDAR
VERSION:2.0
PRODID:-//eventon.com NONSGML v1.0//EN
CALSCALE:GREGORIAN
METHOD:PUBLISH
BEGIN:VEVENT
UID:69e5f9fc67bb3
DTSTAMP:20260420T100340Z
DTSTART:20260401T153000Z
DTEND:20260401T233000Z
LOCATION:Daikin Seattle Experience Center 1230 Andover Park E Unit B
SUMMARY:Tukwila\,  WA - VRV - S
DESCRIPTION:Register now for the VRV &#8211; S Class taking place in Tukwil
 a\,  WA! For questions\,  please get in touch with your local Thermal Suppl
 y Sales Rep or emailtraining@thermalsupply.com This training is free to att
 end\,  but cancellations or rescheduling must be made at least 48 hours pri
 or to thescheduled class. Changes[..]\nhttps://www.thermalsupplyinc.com/eve
 nts/tukwila-wa-vrv-s/
URL:https://www.thermalsupplyinc.com/events/tukwila-wa-vrv-s/
END:VEVENT
END:VCALENDAR