BEGIN:VCALENDAR
VERSION:2.0
PRODID:-//eventon.com NONSGML v1.0//EN
CALSCALE:GREGORIAN
METHOD:PUBLISH
BEGIN:VEVENT
UID:69e5e55fb1725
DTSTAMP:20260420T083543Z
DTSTART:20260402T153000Z
DTEND:20260402T233000Z
LOCATION:Holiday Inn-Twin Falls 1586 Blue Lakes Blvd N.\,  Twin Falls\,  ID 83301
SUMMARY:Twin Falls\,  ID FIT/SD Training
DESCRIPTION:Register now for the Daikin FIT &amp; Goodman SD Install &amp; 
 Commissioning Class taking place in Twin Falls\,  ID! For questions\,  plea
 se get in touch with your local Thermal Supply Sales Rep or emailtraining@t
 hermalsupply.com This training is free to attend\,  but cancellations or re
 scheduling must be made at least 48[..]\nhttps://www.thermalsupplyinc.com/e
 vents/twin-falls-id-fit-sd-training/
URL:https://www.thermalsupplyinc.com/events/twin-falls-id-fit-sd-training/
END:VEVENT
END:VCALENDAR