BEGIN:VCALENDAR
VERSION:2.0
PRODID:-//eventon.com NONSGML v1.0//EN
CALSCALE:GREGORIAN
METHOD:PUBLISH
BEGIN:VEVENT
UID:69e5e54ddfba0
DTSTAMP:20260420T083525Z
DTSTART:20260317T153000Z
DTEND:20260317T233000Z
LOCATION:TBA
SUMMARY:Kennewick\,  WA - FIT/SD Training
DESCRIPTION:For questions\,  please get in touch with your local Thermal Su
 pply Sales Rep or emailtraining@thermalsupply.com To learn more or to sign 
 up for classes\,  navigate to one of the following links.\nhttps://www.ther
 malsupplyinc.com/events/kennewick-wa-fit-sd-training/
URL:https://www.thermalsupplyinc.com/events/kennewick-wa-fit-sd-training/
END:VEVENT
END:VCALENDAR