BEGIN:VCALENDAR
VERSION:2.0
PRODID:-//eventon.com NONSGML v1.0//EN
CALSCALE:GREGORIAN
METHOD:PUBLISH
BEGIN:VEVENT
UID:69e5e5b2dbf26
DTSTAMP:20260420T083706Z
DTSTART:20260317T153000Z
DTEND:20260317T233000Z
LOCATION:Daikin Seattle Experience Center 1230 Andover Park E Unit B
SUMMARY:Tukwila\,  WA -Ductless Service & Troubleshooting--CLOSED
DESCRIPTION:This class has hit max capacity. We have a Combined Ductless In
 stall and Ductless Service &amp; Troubleshoot Overflow class taking place a
 t the same location on 3.19 &amp; 3.20 that is open. Sign up here for the D
 aikin Ductless Service &amp; Troubleshooting class taking place in Tukwila\
 ,  WA! Attendees must[..]\nhttps://www.thermalsupplyinc.com/events/tukwila-
 wa-ductless-service-troubleshooting/
URL:https://www.thermalsupplyinc.com/events/tukwila-wa-ductless-service-troubleshooting/
END:VEVENT
END:VCALENDAR