BEGIN:VCALENDAR
VERSION:2.0
PRODID:-//eventon.com NONSGML v1.0//EN
CALSCALE:GREGORIAN
METHOD:PUBLISH
BEGIN:VEVENT
UID:69e5e9df1072d
DTSTAMP:20260420T085455Z
DTSTART:20260316T153000Z
DTEND:20260316T233000Z
LOCATION:Daikin Seattle Experience Center 1230 Andover Park E Unit B
SUMMARY:Tukwila\,  WA -Ductless Install -- CLOSED
DESCRIPTION:This class has closed. To see upcoming classes in your area ple
 ase visit our website or contact your local sales rep! Sign up here for the
  Daikin Ductless Install class taking place in Tukwila\,  WA! This class is
  limited to 20 participants. For questions\,  please get in touch with your
 [..]\nhttps://www.thermalsupplyinc.com/events/tukwila-wa-ductless-install/
URL:https://www.thermalsupplyinc.com/events/tukwila-wa-ductless-install/
END:VEVENT
END:VCALENDAR