BEGIN:VCALENDAR
VERSION:2.0
PRODID:-//eventon.com NONSGML v1.0//EN
CALSCALE:GREGORIAN
METHOD:PUBLISH
BEGIN:VEVENT
UID:69e5f90144b60
DTSTAMP:20260420T095929Z
DTSTART:20251008T153000Z
DTEND:20251008T233000Z
LOCATION:Thermal Supply Meridian 719 N Principle Pl #120
SUMMARY:Meridian\,  ID - Ductless Service & Troubleshooting
DESCRIPTION:Sign up today for Ductless Service &amp; Troubleshooting class 
 taking place in Billings\,  MT! Please note this class requires attendees t
 o take the &#8216;Ductless Install &amp; Commissioning&#8217; pre-requisite
  course to attend. For questions\,  please get in touch with your local The
 rmal Supply Sales Rep or emailtraining@thermalsupply.com To learn more or[.
 .]\nhttps://www.thermalsupplyinc.com/events/meridian-id-ductless-service-tr
 oubleshooting/
URL:https://www.thermalsupplyinc.com/events/meridian-id-ductless-service-troubleshooting/
END:VEVENT
END:VCALENDAR