BEGIN:VCALENDAR
VERSION:2.0
PRODID:-//eventon.com NONSGML v1.0//EN
CALSCALE:GREGORIAN
METHOD:PUBLISH
BEGIN:VEVENT
UID:69e5e5b2c9944
DTSTAMP:20260420T083706Z
DTSTART:20240213T153000Z
DTEND:20240213T200000Z
LOCATION:DoubleTree by Hilton Portland 1000 NE Multnomah St\,  Portland\,  OR 97232
SUMMARY:Portland\,  OR - Finance Training Incorporating Digital Marketing & Digital Sales Technology
DESCRIPTION:REGISTER TODAY! Roll-up your sleeves for this hands-on 4 hour w
 orkshop geared to create UNLIMITED growth for your residential service busi
 ness. Training is FREE. Breakfast provided! For questions\,  please get in 
 touch with your local Thermal Supply Sales Rep or emailtraining@thermalsupp
 ly.com To learn more or to sign up for classes\, [..]\nhttps://www.thermals
 upplyinc.com/events/portland-or-finance-training-incorporating-digital-mark
 eting-digital-sales-technology/
URL:https://www.thermalsupplyinc.com/events/portland-or-finance-training-incorporating-digital-marketing-digital-sales-technology/
END:VEVENT
END:VCALENDAR